BEGIN:VCALENDAR
VERSION:2.0
PRODID:-//SolidCAM Italia - ECPv6.15.20//NONSGML v1.0//EN
CALSCALE:GREGORIAN
METHOD:PUBLISH
X-ORIGINAL-URL:https://solidcam.it
X-WR-CALDESC:Eventi per SolidCAM Italia
REFRESH-INTERVAL;VALUE=DURATION:PT1H
X-Robots-Tag:noindex
X-PUBLISHED-TTL:PT1H
BEGIN:VTIMEZONE
TZID:Europe/Rome
BEGIN:DAYLIGHT
TZOFFSETFROM:+0100
TZOFFSETTO:+0200
TZNAME:CEST
DTSTART:20240331T010000
END:DAYLIGHT
BEGIN:STANDARD
TZOFFSETFROM:+0200
TZOFFSETTO:+0100
TZNAME:CET
DTSTART:20241027T010000
END:STANDARD
BEGIN:DAYLIGHT
TZOFFSETFROM:+0100
TZOFFSETTO:+0200
TZNAME:CEST
DTSTART:20250330T010000
END:DAYLIGHT
BEGIN:STANDARD
TZOFFSETFROM:+0200
TZOFFSETTO:+0100
TZNAME:CET
DTSTART:20251026T010000
END:STANDARD
BEGIN:DAYLIGHT
TZOFFSETFROM:+0100
TZOFFSETTO:+0200
TZNAME:CEST
DTSTART:20260329T010000
END:DAYLIGHT
BEGIN:STANDARD
TZOFFSETFROM:+0200
TZOFFSETTO:+0100
TZNAME:CET
DTSTART:20261025T010000
END:STANDARD
END:VTIMEZONE
BEGIN:VEVENT
DTSTART;TZID=Europe/Rome:20250605T143000
DTEND;TZID=Europe/Rome:20250605T151000
DTSTAMP:20260420T023349
CREATED:20250521T134941Z
LAST-MODIFIED:20250521T135336Z
UID:11405-1749133800-1749136200@solidcam.it
SUMMARY:Corso Fresatura 2.5 Assi SolidCAM - Gratuito e Online
DESCRIPTION:<< Tutti gli Eventi 						\n				\n				\n				\n			\n	Corso Fresatura 2.5 Assi SolidCAM – Gratuito e Online		\n				\n				\n				\n			\n		\n			Giugno 5\n\n	\n\n	  @  \n\n\n14:30\n\n		\n\n\n\n	\n	  -  \n\n15:10\n\n\n\n	\n		\n				\n				\n				\n			\n	\n		\n				\n					\n		\n					\n		\n				\n						\n					\n			\n						\n				\n							Mercoledì 5 giugno 2025 – Parte 1Mercoledì 19 giugno 2025 – Parte 2Orario: 14:30 – 15:10 (circa 40 minuti per sessione) Due appuntamenti\, un’unica occasione per iniziare con il piede giusto nella programmazione CAM. A chi è rivolto?Programmatori CAM alle prime armiUtilizzatori di SOLIDWORKS che vogliono scoprire SolidCAMAziende manifatturiere interessate all’automazione della programmazioneHai appena iniziato a utilizzare SolidCAM o vuoi capirne le potenzialità? Questo corso base sulla fresatura 2.5 assi ti guiderà passo dopo passo\, in due incontri pensati per costruire solide fondamenta. Come si svolge il corso?Il corso è diviso in due parti propedeutiche: 1° Parte – 5 giugno Introduzione all’ambiente CAM\, creazione della geometria\, setup e percorsi utensile.2° Parte – 19 giugnoStrategie di lavorazione più avanzate\, simulazione dei percorsi e post-processing.Ogni sessione dura circa 40 minuti\, è online e gratuita\, con dimostrazioni guidate per un apprendimento più efficace. Perché partecipare?SolidCAM è la soluzione CAM integrata per SOLIDWORKS che consente di programmare in modo veloce\, sicuro e intuitivo.Questo corso è perfetto per chi vuole partire dalle basi della fresatura 2.5 assi e iniziare subito a lavorare in autonomia\, sfruttando appieno la potenza dell’integrazione CAD/CAM. Scoprirai come: Configurare correttamente l’ambiente CAM in SolidCAMCreare operazioni di fresatura base e simularne il comportamentoOttimizzare i parametri di lavorazione per una maggiore efficienza produttivaApprendimento e confronto diretto con gli espertiAl termine di ciascun appuntamento\, ci sarà una sessione live di Q&A con Vincenzo Rizzo e Denis Mema\, esperti di SolidCAM Italia\, pronti a rispondere a ogni domanda e chiarire eventuali dubbi. Tutti i partecipanti riceveranno un attestato di partecipazione al corso. 						\n				\n				\n				\n					\n			\n						\n									Iscriviti ora
URL:https://solidcam.it/evento/corso-fresatura-2-5-assi-solidcam-gratuito-e-online/
CATEGORIES:Corsi base,Eventi,Gratuito,Webinar
ATTACH;FMTTYPE=image/webp:https://solidcam.it/wp-content/uploads/sites/2/Corso_SolidCAM_Fresatura_2.5_Assi.webp
END:VEVENT
END:VCALENDAR