BEGIN:VCALENDAR
VERSION:2.0
PRODID:-//SolidCAM Italia - ECPv6.15.20//NONSGML v1.0//EN
CALSCALE:GREGORIAN
METHOD:PUBLISH
X-ORIGINAL-URL:https://solidcam.it
X-WR-CALDESC:Eventi per SolidCAM Italia
REFRESH-INTERVAL;VALUE=DURATION:PT1H
X-Robots-Tag:noindex
X-PUBLISHED-TTL:PT1H
BEGIN:VTIMEZONE
TZID:Europe/Rome
BEGIN:DAYLIGHT
TZOFFSETFROM:+0100
TZOFFSETTO:+0200
TZNAME:CEST
DTSTART:20240331T010000
END:DAYLIGHT
BEGIN:STANDARD
TZOFFSETFROM:+0200
TZOFFSETTO:+0100
TZNAME:CET
DTSTART:20241027T010000
END:STANDARD
BEGIN:DAYLIGHT
TZOFFSETFROM:+0100
TZOFFSETTO:+0200
TZNAME:CEST
DTSTART:20250330T010000
END:DAYLIGHT
BEGIN:STANDARD
TZOFFSETFROM:+0200
TZOFFSETTO:+0100
TZNAME:CET
DTSTART:20251026T010000
END:STANDARD
BEGIN:DAYLIGHT
TZOFFSETFROM:+0100
TZOFFSETTO:+0200
TZNAME:CEST
DTSTART:20260329T010000
END:DAYLIGHT
BEGIN:STANDARD
TZOFFSETFROM:+0200
TZOFFSETTO:+0100
TZNAME:CET
DTSTART:20261025T010000
END:STANDARD
BEGIN:DAYLIGHT
TZOFFSETFROM:+0100
TZOFFSETTO:+0200
TZNAME:CEST
DTSTART:20270328T010000
END:DAYLIGHT
BEGIN:STANDARD
TZOFFSETFROM:+0200
TZOFFSETTO:+0100
TZNAME:CET
DTSTART:20271031T010000
END:STANDARD
END:VTIMEZONE
BEGIN:VEVENT
DTSTART;TZID=Europe/Rome:20250709T093000
DTEND;TZID=Europe/Rome:20250709T143000
DTSTAMP:20260420T150311
CREATED:20250623T085845Z
LAST-MODIFIED:20250623T090300Z
UID:11473-1752053400-1752071400@solidcam.it
SUMMARY:Open House - Additive\, il nuovo standard produttivo
DESCRIPTION:<< Tutti gli Eventi 						\n				\n				\n				\n			\n	Webinar – SolidCAM e frese alesatrici: precisione assoluta\, controllo totale		\n				\n				\n				\n			\n		\n			Marzo 26\n\n	\n\n	  @  \n\n\n14:30\n\n		\n\n\n\n	\n	  -  \n\n15:30\n\n\n\n	\n		\n				\n				\n				\n			\n	\n		\n				\n					\n		\n					\n		\n				\n						\n					\n			\n						\n				\n							Webinar Gratuito – Online \n26 marzo 2026 ore 14:30\nWebinar pratico dedicato alla gestione di frese alesatrici con SolidCAM. Vedremo come ottenere massima precisione\, sfruttare tutta la potenza della macchina e mantenere controllo totale su lavorazioni\, utensili e cicli. \nGrazie a SolidCAM\, la programmazione di pezzi di grandi dimensioni diventa più performante\, stabile ed efficiente\, dal CAM alla produzione reale. Meno imprevisti\, più affidabilità\, risultati concreti in officina. \nRelatori: Vincenzo Rizzo e Denis Mema\, Application Engineers SolidCAM Italia. \n\n\nDurata: la sessione online ha la durata di circa 1 ora. \nObiettivo: Il webinar ha scopo dimostrativo per offrire una panoramica generale sul prodotto.  \nIscriviti alla sessione online per conoscere aspetti tecnici e soluzioni innovative per il tuo business! L’utilizzo del web consente ai progettisti partecipanti di non abbandonare la propria attività per tutto il giorno e di essere nuovamente operativi subito dopo il meeting online. \n\n\n 						\n				\n				\n				\n					\n			\n						\n									ISCRIVITI ORA
URL:https://solidcam.it/evento/open-house-additive-il-nuovo-standard-produttivo/
CATEGORIES:Eventi,Gratuito,Workshop
ATTACH;FMTTYPE=image/webp:https://solidcam.it/wp-content/uploads/sites/2/2025-06-18-14.36.02-Evento_9_luglio_Duepigreco_edit.webp
END:VEVENT
BEGIN:VEVENT
DTSTART;TZID=Europe/Rome:20251009T140000
DTEND;TZID=Europe/Rome:20251011T123000
DTSTAMP:20260420T150311
CREATED:20250925T090959Z
LAST-MODIFIED:20250925T134408Z
UID:11612-1760018400-1760185800@solidcam.it
SUMMARY:Open House Tornos Technologies Italia
DESCRIPTION:<< Tutti gli Eventi 						\n				\n				\n				\n			\n	Webinar – SolidCAM e frese alesatrici: precisione assoluta\, controllo totale		\n				\n				\n				\n			\n		\n			Marzo 26\n\n	\n\n	  @  \n\n\n14:30\n\n		\n\n\n\n	\n	  -  \n\n15:30\n\n\n\n	\n		\n				\n				\n				\n			\n	\n		\n				\n					\n		\n					\n		\n				\n						\n					\n			\n						\n				\n							Webinar Gratuito – Online \n26 marzo 2026 ore 14:30\nWebinar pratico dedicato alla gestione di frese alesatrici con SolidCAM. Vedremo come ottenere massima precisione\, sfruttare tutta la potenza della macchina e mantenere controllo totale su lavorazioni\, utensili e cicli. \nGrazie a SolidCAM\, la programmazione di pezzi di grandi dimensioni diventa più performante\, stabile ed efficiente\, dal CAM alla produzione reale. Meno imprevisti\, più affidabilità\, risultati concreti in officina. \nRelatori: Vincenzo Rizzo e Denis Mema\, Application Engineers SolidCAM Italia. \n\n\nDurata: la sessione online ha la durata di circa 1 ora. \nObiettivo: Il webinar ha scopo dimostrativo per offrire una panoramica generale sul prodotto.  \nIscriviti alla sessione online per conoscere aspetti tecnici e soluzioni innovative per il tuo business! L’utilizzo del web consente ai progettisti partecipanti di non abbandonare la propria attività per tutto il giorno e di essere nuovamente operativi subito dopo il meeting online. \n\n\n 						\n				\n				\n				\n					\n			\n						\n									ISCRIVITI ORA
URL:https://solidcam.it/evento/open-house-tornos-technologies-italia/
CATEGORIES:Eventi,Fiere e Workshop,Gratuito
ATTACH;FMTTYPE=image/webp:https://solidcam.it/wp-content/uploads/sites/2/SolidCam-web-Tornos.webp
END:VEVENT
BEGIN:VEVENT
DTSTART;TZID=Europe/Rome:20251015T090000
DTEND;TZID=Europe/Rome:20251016T180000
DTSTAMP:20260420T150311
CREATED:20250723T135342Z
LAST-MODIFIED:20250922T122621Z
UID:11514-1760518800-1760637600@solidcam.it
SUMMARY:Fiera Metal Materia
DESCRIPTION:<< Tutti gli Eventi 						\n				\n				\n				\n			\n	Webinar – SolidCAM e frese alesatrici: precisione assoluta\, controllo totale		\n				\n				\n				\n			\n		\n			Marzo 26\n\n	\n\n	  @  \n\n\n14:30\n\n		\n\n\n\n	\n	  -  \n\n15:30\n\n\n\n	\n		\n				\n				\n				\n			\n	\n		\n				\n					\n		\n					\n		\n				\n						\n					\n			\n						\n				\n							Webinar Gratuito – Online \n26 marzo 2026 ore 14:30\nWebinar pratico dedicato alla gestione di frese alesatrici con SolidCAM. Vedremo come ottenere massima precisione\, sfruttare tutta la potenza della macchina e mantenere controllo totale su lavorazioni\, utensili e cicli. \nGrazie a SolidCAM\, la programmazione di pezzi di grandi dimensioni diventa più performante\, stabile ed efficiente\, dal CAM alla produzione reale. Meno imprevisti\, più affidabilità\, risultati concreti in officina. \nRelatori: Vincenzo Rizzo e Denis Mema\, Application Engineers SolidCAM Italia. \n\n\nDurata: la sessione online ha la durata di circa 1 ora. \nObiettivo: Il webinar ha scopo dimostrativo per offrire una panoramica generale sul prodotto.  \nIscriviti alla sessione online per conoscere aspetti tecnici e soluzioni innovative per il tuo business! L’utilizzo del web consente ai progettisti partecipanti di non abbandonare la propria attività per tutto il giorno e di essere nuovamente operativi subito dopo il meeting online. \n\n\n 						\n				\n				\n				\n					\n			\n						\n									ISCRIVITI ORA
URL:https://solidcam.it/evento/fiera-metal-materia/
CATEGORIES:Eventi,Fiere e Workshop,Gratuito
ATTACH;FMTTYPE=image/webp:https://solidcam.it/wp-content/uploads/sites/2/Fiera_Metal_Materia_3.webp
END:VEVENT
BEGIN:VEVENT
DTSTART;TZID=Europe/Rome:20251016T093000
DTEND;TZID=Europe/Rome:20251016T173000
DTSTAMP:20260420T150312
CREATED:20250708T131254Z
LAST-MODIFIED:20250826T131814Z
UID:11501-1760607000-1760635800@solidcam.it
SUMMARY:SolidShow AI 2025
DESCRIPTION:<< Tutti gli Eventi 						\n				\n				\n				\n			\n	Webinar – SolidCAM e frese alesatrici: precisione assoluta\, controllo totale		\n				\n				\n				\n			\n		\n			Marzo 26\n\n	\n\n	  @  \n\n\n14:30\n\n		\n\n\n\n	\n	  -  \n\n15:30\n\n\n\n	\n		\n				\n				\n				\n			\n	\n		\n				\n					\n		\n					\n		\n				\n						\n					\n			\n						\n				\n							Webinar Gratuito – Online \n26 marzo 2026 ore 14:30\nWebinar pratico dedicato alla gestione di frese alesatrici con SolidCAM. Vedremo come ottenere massima precisione\, sfruttare tutta la potenza della macchina e mantenere controllo totale su lavorazioni\, utensili e cicli. \nGrazie a SolidCAM\, la programmazione di pezzi di grandi dimensioni diventa più performante\, stabile ed efficiente\, dal CAM alla produzione reale. Meno imprevisti\, più affidabilità\, risultati concreti in officina. \nRelatori: Vincenzo Rizzo e Denis Mema\, Application Engineers SolidCAM Italia. \n\n\nDurata: la sessione online ha la durata di circa 1 ora. \nObiettivo: Il webinar ha scopo dimostrativo per offrire una panoramica generale sul prodotto.  \nIscriviti alla sessione online per conoscere aspetti tecnici e soluzioni innovative per il tuo business! L’utilizzo del web consente ai progettisti partecipanti di non abbandonare la propria attività per tutto il giorno e di essere nuovamente operativi subito dopo il meeting online. \n\n\n 						\n				\n				\n				\n					\n			\n						\n									ISCRIVITI ORA
URL:https://solidcam.it/evento/solidshow-ai-2025/
LOCATION:Fiera del Levante\, Bari\, Bari\, Italy
CATEGORIES:Eventi,Fiere e Workshop,Gratuito
ATTACH;FMTTYPE=image/webp:https://solidcam.it/wp-content/uploads/sites/2/Evento_Solidshow-2025_02.webp
END:VEVENT
BEGIN:VEVENT
DTSTART;TZID=Europe/Rome:20251106T083000
DTEND;TZID=Europe/Rome:20251106T130000
DTSTAMP:20260420T150312
CREATED:20251008T073016Z
LAST-MODIFIED:20251008T082837Z
UID:11641-1762417800-1762434000@solidcam.it
SUMMARY:Connessioni che creano valore
DESCRIPTION:<< Tutti gli Eventi 						\n				\n				\n				\n			\n	Webinar – SolidCAM e frese alesatrici: precisione assoluta\, controllo totale		\n				\n				\n				\n			\n		\n			Marzo 26\n\n	\n\n	  @  \n\n\n14:30\n\n		\n\n\n\n	\n	  -  \n\n15:30\n\n\n\n	\n		\n				\n				\n				\n			\n	\n		\n				\n					\n		\n					\n		\n				\n						\n					\n			\n						\n				\n							Webinar Gratuito – Online \n26 marzo 2026 ore 14:30\nWebinar pratico dedicato alla gestione di frese alesatrici con SolidCAM. Vedremo come ottenere massima precisione\, sfruttare tutta la potenza della macchina e mantenere controllo totale su lavorazioni\, utensili e cicli. \nGrazie a SolidCAM\, la programmazione di pezzi di grandi dimensioni diventa più performante\, stabile ed efficiente\, dal CAM alla produzione reale. Meno imprevisti\, più affidabilità\, risultati concreti in officina. \nRelatori: Vincenzo Rizzo e Denis Mema\, Application Engineers SolidCAM Italia. \n\n\nDurata: la sessione online ha la durata di circa 1 ora. \nObiettivo: Il webinar ha scopo dimostrativo per offrire una panoramica generale sul prodotto.  \nIscriviti alla sessione online per conoscere aspetti tecnici e soluzioni innovative per il tuo business! L’utilizzo del web consente ai progettisti partecipanti di non abbandonare la propria attività per tutto il giorno e di essere nuovamente operativi subito dopo il meeting online. \n\n\n 						\n				\n				\n				\n					\n			\n						\n									ISCRIVITI ORA
URL:https://solidcam.it/evento/connessioni-che-creano-valore/
CATEGORIES:Eventi,Fiere e Workshop,Gratuito
ATTACH;FMTTYPE=image/webp:https://solidcam.it/wp-content/uploads/sites/2/SolidCam-_connessioni_def.webp
END:VEVENT
BEGIN:VEVENT
DTSTART;TZID=Europe/Rome:20251106T140000
DTEND;TZID=Europe/Rome:20251106T173000
DTSTAMP:20260420T150312
CREATED:20250924T133921Z
LAST-MODIFIED:20250924T134226Z
UID:11605-1762437600-1762450200@solidcam.it
SUMMARY:Novità 2026: il futuro della progettazione 3D\, CAD/CAM e metrologia
DESCRIPTION:<< Tutti gli Eventi 						\n				\n				\n				\n			\n	Webinar – SolidCAM e frese alesatrici: precisione assoluta\, controllo totale		\n				\n				\n				\n			\n		\n			Marzo 26\n\n	\n\n	  @  \n\n\n14:30\n\n		\n\n\n\n	\n	  -  \n\n15:30\n\n\n\n	\n		\n				\n				\n				\n			\n	\n		\n				\n					\n		\n					\n		\n				\n						\n					\n			\n						\n				\n							Webinar Gratuito – Online \n26 marzo 2026 ore 14:30\nWebinar pratico dedicato alla gestione di frese alesatrici con SolidCAM. Vedremo come ottenere massima precisione\, sfruttare tutta la potenza della macchina e mantenere controllo totale su lavorazioni\, utensili e cicli. \nGrazie a SolidCAM\, la programmazione di pezzi di grandi dimensioni diventa più performante\, stabile ed efficiente\, dal CAM alla produzione reale. Meno imprevisti\, più affidabilità\, risultati concreti in officina. \nRelatori: Vincenzo Rizzo e Denis Mema\, Application Engineers SolidCAM Italia. \n\n\nDurata: la sessione online ha la durata di circa 1 ora. \nObiettivo: Il webinar ha scopo dimostrativo per offrire una panoramica generale sul prodotto.  \nIscriviti alla sessione online per conoscere aspetti tecnici e soluzioni innovative per il tuo business! L’utilizzo del web consente ai progettisti partecipanti di non abbandonare la propria attività per tutto il giorno e di essere nuovamente operativi subito dopo il meeting online. \n\n\n 						\n				\n				\n				\n					\n			\n						\n									ISCRIVITI ORA
URL:https://solidcam.it/evento/novita-2026-il-futuro-della-progettazione-3d-cad-cam-e-metrologia/
CATEGORIES:Eventi,Fiere e Workshop,Gratuito
ATTACH;FMTTYPE=image/png:https://solidcam.it/wp-content/uploads/sites/2/SolidWorld_evento-novita-2026_firenze_web.png
END:VEVENT
BEGIN:VEVENT
DTSTART;TZID=Europe/Rome:20251114T153000
DTEND;TZID=Europe/Rome:20251115T120000
DTSTAMP:20260420T150312
CREATED:20251030T101713Z
LAST-MODIFIED:20251107T132811Z
UID:11657-1763134200-1763208000@solidcam.it
SUMMARY:Open Days di Vimak
DESCRIPTION:<< Tutti gli Eventi 						\n				\n				\n				\n			\n	Webinar – SolidCAM e frese alesatrici: precisione assoluta\, controllo totale		\n				\n				\n				\n			\n		\n			Marzo 26\n\n	\n\n	  @  \n\n\n14:30\n\n		\n\n\n\n	\n	  -  \n\n15:30\n\n\n\n	\n		\n				\n				\n				\n			\n	\n		\n				\n					\n		\n					\n		\n				\n						\n					\n			\n						\n				\n							Webinar Gratuito – Online \n26 marzo 2026 ore 14:30\nWebinar pratico dedicato alla gestione di frese alesatrici con SolidCAM. Vedremo come ottenere massima precisione\, sfruttare tutta la potenza della macchina e mantenere controllo totale su lavorazioni\, utensili e cicli. \nGrazie a SolidCAM\, la programmazione di pezzi di grandi dimensioni diventa più performante\, stabile ed efficiente\, dal CAM alla produzione reale. Meno imprevisti\, più affidabilità\, risultati concreti in officina. \nRelatori: Vincenzo Rizzo e Denis Mema\, Application Engineers SolidCAM Italia. \n\n\nDurata: la sessione online ha la durata di circa 1 ora. \nObiettivo: Il webinar ha scopo dimostrativo per offrire una panoramica generale sul prodotto.  \nIscriviti alla sessione online per conoscere aspetti tecnici e soluzioni innovative per il tuo business! L’utilizzo del web consente ai progettisti partecipanti di non abbandonare la propria attività per tutto il giorno e di essere nuovamente operativi subito dopo il meeting online. \n\n\n 						\n				\n				\n				\n					\n			\n						\n									ISCRIVITI ORA
URL:https://solidcam.it/evento/open-days-di-vimak/
CATEGORIES:Eventi,Fiere e Workshop,Gratuito
ATTACH;FMTTYPE=image/webp:https://solidcam.it/wp-content/uploads/sites/2/SolidCam-Italia-Vimak-sito.webp
END:VEVENT
BEGIN:VEVENT
DTSTART;TZID=Europe/Rome:20260205T090000
DTEND;TZID=Europe/Rome:20260207T173000
DTSTAMP:20260420T150312
CREATED:20251115T160527Z
LAST-MODIFIED:20260128T104202Z
UID:11698-1770282000-1770485400@solidcam.it
SUMMARY:SamuExpo 2026
DESCRIPTION:<< Tutti gli Eventi 						\n				\n				\n				\n			\n	Webinar – SolidCAM e frese alesatrici: precisione assoluta\, controllo totale		\n				\n				\n				\n			\n		\n			Marzo 26\n\n	\n\n	  @  \n\n\n14:30\n\n		\n\n\n\n	\n	  -  \n\n15:30\n\n\n\n	\n		\n				\n				\n				\n			\n	\n		\n				\n					\n		\n					\n		\n				\n						\n					\n			\n						\n				\n							Webinar Gratuito – Online \n26 marzo 2026 ore 14:30\nWebinar pratico dedicato alla gestione di frese alesatrici con SolidCAM. Vedremo come ottenere massima precisione\, sfruttare tutta la potenza della macchina e mantenere controllo totale su lavorazioni\, utensili e cicli. \nGrazie a SolidCAM\, la programmazione di pezzi di grandi dimensioni diventa più performante\, stabile ed efficiente\, dal CAM alla produzione reale. Meno imprevisti\, più affidabilità\, risultati concreti in officina. \nRelatori: Vincenzo Rizzo e Denis Mema\, Application Engineers SolidCAM Italia. \n\n\nDurata: la sessione online ha la durata di circa 1 ora. \nObiettivo: Il webinar ha scopo dimostrativo per offrire una panoramica generale sul prodotto.  \nIscriviti alla sessione online per conoscere aspetti tecnici e soluzioni innovative per il tuo business! L’utilizzo del web consente ai progettisti partecipanti di non abbandonare la propria attività per tutto il giorno e di essere nuovamente operativi subito dopo il meeting online. \n\n\n 						\n				\n				\n				\n					\n			\n						\n									ISCRIVITI ORA
URL:https://solidcam.it/evento/samuexpo-2026/
CATEGORIES:Eventi,Fiere e Workshop,Gratuito
ATTACH;FMTTYPE=image/webp:https://solidcam.it/wp-content/uploads/sites/2/Solidworld_samuexpo-solidcam-sito.webp
END:VEVENT
BEGIN:VEVENT
DTSTART;TZID=Europe/Rome:20260211T120000
DTEND;TZID=Europe/Rome:20260211T164500
DTSTAMP:20260420T150312
CREATED:20251115T154832Z
LAST-MODIFIED:20260116T085504Z
UID:12164-1770811200-1770828300@solidcam.it
SUMMARY:Novità 2026: il futuro della progettazione 3D\, CAD/CAM\, Additive Manufacturing e metrologia - Milano e Online
DESCRIPTION:<< Tutti gli Eventi 						\n				\n				\n				\n			\n	Webinar – SolidCAM e frese alesatrici: precisione assoluta\, controllo totale		\n				\n				\n				\n			\n		\n			Marzo 26\n\n	\n\n	  @  \n\n\n14:30\n\n		\n\n\n\n	\n	  -  \n\n15:30\n\n\n\n	\n		\n				\n				\n				\n			\n	\n		\n				\n					\n		\n					\n		\n				\n						\n					\n			\n						\n				\n							Webinar Gratuito – Online \n26 marzo 2026 ore 14:30\nWebinar pratico dedicato alla gestione di frese alesatrici con SolidCAM. Vedremo come ottenere massima precisione\, sfruttare tutta la potenza della macchina e mantenere controllo totale su lavorazioni\, utensili e cicli. \nGrazie a SolidCAM\, la programmazione di pezzi di grandi dimensioni diventa più performante\, stabile ed efficiente\, dal CAM alla produzione reale. Meno imprevisti\, più affidabilità\, risultati concreti in officina. \nRelatori: Vincenzo Rizzo e Denis Mema\, Application Engineers SolidCAM Italia. \n\n\nDurata: la sessione online ha la durata di circa 1 ora. \nObiettivo: Il webinar ha scopo dimostrativo per offrire una panoramica generale sul prodotto.  \nIscriviti alla sessione online per conoscere aspetti tecnici e soluzioni innovative per il tuo business! L’utilizzo del web consente ai progettisti partecipanti di non abbandonare la propria attività per tutto il giorno e di essere nuovamente operativi subito dopo il meeting online. \n\n\n 						\n				\n				\n				\n					\n			\n						\n									ISCRIVITI ORA
URL:https://solidcam.it/evento/novita-2026-il-futuro-della-progettazione-3d-cad-cam-additive-manufacturing-metrologia-mi/
CATEGORIES:Eventi,Fiere e Workshop,Gratuito
ATTACH;FMTTYPE=image/png:https://solidcam.it/wp-content/uploads/sites/2/SolidWorld_evento-novita-2026_firenze_web.png
END:VEVENT
BEGIN:VEVENT
DTSTART;TZID=Europe/Rome:20260212T120000
DTEND;TZID=Europe/Rome:20260212T170000
DTSTAMP:20260420T150312
CREATED:20251111T081139Z
LAST-MODIFIED:20260116T085515Z
UID:12179-1770897600-1770915600@solidcam.it
SUMMARY:Novità 2026: il futuro della progettazione 3D\, CAD/CAM\, Additive Manufacturing e metrologia - Bologna e Online
DESCRIPTION:<< Tutti gli Eventi 						\n				\n				\n				\n			\n	Webinar – SolidCAM e frese alesatrici: precisione assoluta\, controllo totale		\n				\n				\n				\n			\n		\n			Marzo 26\n\n	\n\n	  @  \n\n\n14:30\n\n		\n\n\n\n	\n	  -  \n\n15:30\n\n\n\n	\n		\n				\n				\n				\n			\n	\n		\n				\n					\n		\n					\n		\n				\n						\n					\n			\n						\n				\n							Webinar Gratuito – Online \n26 marzo 2026 ore 14:30\nWebinar pratico dedicato alla gestione di frese alesatrici con SolidCAM. Vedremo come ottenere massima precisione\, sfruttare tutta la potenza della macchina e mantenere controllo totale su lavorazioni\, utensili e cicli. \nGrazie a SolidCAM\, la programmazione di pezzi di grandi dimensioni diventa più performante\, stabile ed efficiente\, dal CAM alla produzione reale. Meno imprevisti\, più affidabilità\, risultati concreti in officina. \nRelatori: Vincenzo Rizzo e Denis Mema\, Application Engineers SolidCAM Italia. \n\n\nDurata: la sessione online ha la durata di circa 1 ora. \nObiettivo: Il webinar ha scopo dimostrativo per offrire una panoramica generale sul prodotto.  \nIscriviti alla sessione online per conoscere aspetti tecnici e soluzioni innovative per il tuo business! L’utilizzo del web consente ai progettisti partecipanti di non abbandonare la propria attività per tutto il giorno e di essere nuovamente operativi subito dopo il meeting online. \n\n\n 						\n				\n				\n				\n					\n			\n						\n									ISCRIVITI ORA
URL:https://solidcam.it/evento/novita-2026-il-futuro-della-progettazione-3d-cad-cam-additive-manufacturing-metrologia-bo/
CATEGORIES:Eventi,Fiere e Workshop,Gratuito
ATTACH;FMTTYPE=image/png:https://solidcam.it/wp-content/uploads/sites/2/SolidWorld_evento-novita-2026_firenze_web.png
END:VEVENT
BEGIN:VEVENT
DTSTART;TZID=Europe/Rome:20260226T143000
DTEND;TZID=Europe/Rome:20260226T153000
DTSTAMP:20260420T150312
CREATED:20260102T104417Z
LAST-MODIFIED:20260310T074932Z
UID:12300-1772116200-1772119800@solidcam.it
SUMMARY:Webinar - Artificiale o reale? iMachining\, la fresatura intelligente di SolidCAM
DESCRIPTION:<< Tutti gli Eventi 						\n				\n				\n				\n			\n	Webinar – SolidCAM e frese alesatrici: precisione assoluta\, controllo totale		\n				\n				\n				\n			\n		\n			Marzo 26\n\n	\n\n	  @  \n\n\n14:30\n\n		\n\n\n\n	\n	  -  \n\n15:30\n\n\n\n	\n		\n				\n				\n				\n			\n	\n		\n				\n					\n		\n					\n		\n				\n						\n					\n			\n						\n				\n							Webinar Gratuito – Online \n26 marzo 2026 ore 14:30\nWebinar pratico dedicato alla gestione di frese alesatrici con SolidCAM. Vedremo come ottenere massima precisione\, sfruttare tutta la potenza della macchina e mantenere controllo totale su lavorazioni\, utensili e cicli. \nGrazie a SolidCAM\, la programmazione di pezzi di grandi dimensioni diventa più performante\, stabile ed efficiente\, dal CAM alla produzione reale. Meno imprevisti\, più affidabilità\, risultati concreti in officina. \nRelatori: Vincenzo Rizzo e Denis Mema\, Application Engineers SolidCAM Italia. \n\n\nDurata: la sessione online ha la durata di circa 1 ora. \nObiettivo: Il webinar ha scopo dimostrativo per offrire una panoramica generale sul prodotto.  \nIscriviti alla sessione online per conoscere aspetti tecnici e soluzioni innovative per il tuo business! L’utilizzo del web consente ai progettisti partecipanti di non abbandonare la propria attività per tutto il giorno e di essere nuovamente operativi subito dopo il meeting online. \n\n\n 						\n				\n				\n				\n					\n			\n						\n									ISCRIVITI ORA
URL:https://solidcam.it/evento/webinar-artificiale-o-reale-imachining-la-fresatura-intelligente-di-solidcam/
CATEGORIES:Eventi,Gratuito,Webinar
ATTACH;FMTTYPE=image/webp:https://solidcam.it/wp-content/uploads/sites/2/Solidcam-2026_Articolo-sito-webinar-imachining-1.webp
END:VEVENT
BEGIN:VEVENT
DTSTART;TZID=Europe/Rome:20260304T090000
DTEND;TZID=Europe/Rome:20260306T180000
DTSTAMP:20260420T150312
CREATED:20251110T161451Z
LAST-MODIFIED:20260212T080413Z
UID:12231-1772614800-1772820000@solidcam.it
SUMMARY:MECSPE 2026
DESCRIPTION:<< Tutti gli Eventi 						\n				\n				\n				\n			\n	Webinar – SolidCAM e frese alesatrici: precisione assoluta\, controllo totale		\n				\n				\n				\n			\n		\n			Marzo 26\n\n	\n\n	  @  \n\n\n14:30\n\n		\n\n\n\n	\n	  -  \n\n15:30\n\n\n\n	\n		\n				\n				\n				\n			\n	\n		\n				\n					\n		\n					\n		\n				\n						\n					\n			\n						\n				\n							Webinar Gratuito – Online \n26 marzo 2026 ore 14:30\nWebinar pratico dedicato alla gestione di frese alesatrici con SolidCAM. Vedremo come ottenere massima precisione\, sfruttare tutta la potenza della macchina e mantenere controllo totale su lavorazioni\, utensili e cicli. \nGrazie a SolidCAM\, la programmazione di pezzi di grandi dimensioni diventa più performante\, stabile ed efficiente\, dal CAM alla produzione reale. Meno imprevisti\, più affidabilità\, risultati concreti in officina. \nRelatori: Vincenzo Rizzo e Denis Mema\, Application Engineers SolidCAM Italia. \n\n\nDurata: la sessione online ha la durata di circa 1 ora. \nObiettivo: Il webinar ha scopo dimostrativo per offrire una panoramica generale sul prodotto.  \nIscriviti alla sessione online per conoscere aspetti tecnici e soluzioni innovative per il tuo business! L’utilizzo del web consente ai progettisti partecipanti di non abbandonare la propria attività per tutto il giorno e di essere nuovamente operativi subito dopo il meeting online. \n\n\n 						\n				\n				\n				\n					\n			\n						\n									ISCRIVITI ORA
URL:https://solidcam.it/evento/mecspe-2026/
LOCATION:BolognaFiere
CATEGORIES:Eventi,Fiere e Workshop,Gratuito
ATTACH;FMTTYPE=image/webp:https://solidcam.it/wp-content/uploads/sites/2/Solidworld_mec-spe-Articolo-sito.webp
END:VEVENT
BEGIN:VEVENT
DTSTART;TZID=Europe/Rome:20260326T143000
DTEND;TZID=Europe/Rome:20260326T153000
DTSTAMP:20260420T150312
CREATED:20260220T093740Z
LAST-MODIFIED:20260310T074939Z
UID:12379-1774535400-1774539000@solidcam.it
SUMMARY:Webinar - SolidCAM e frese alesatrici: precisione assoluta\, controllo totale
DESCRIPTION:<< Tutti gli Eventi 						\n				\n				\n				\n			\n	Webinar – SolidCAM e frese alesatrici: precisione assoluta\, controllo totale		\n				\n				\n				\n			\n		\n			Marzo 26\n\n	\n\n	  @  \n\n\n14:30\n\n		\n\n\n\n	\n	  -  \n\n15:30\n\n\n\n	\n		\n				\n				\n				\n			\n	\n		\n				\n					\n		\n					\n		\n				\n						\n					\n			\n						\n				\n							Webinar Gratuito – Online \n26 marzo 2026 ore 14:30\nWebinar pratico dedicato alla gestione di frese alesatrici con SolidCAM. Vedremo come ottenere massima precisione\, sfruttare tutta la potenza della macchina e mantenere controllo totale su lavorazioni\, utensili e cicli. \nGrazie a SolidCAM\, la programmazione di pezzi di grandi dimensioni diventa più performante\, stabile ed efficiente\, dal CAM alla produzione reale. Meno imprevisti\, più affidabilità\, risultati concreti in officina. \nRelatori: Vincenzo Rizzo e Denis Mema\, Application Engineers SolidCAM Italia. \n\n\nDurata: la sessione online ha la durata di circa 1 ora. \nObiettivo: Il webinar ha scopo dimostrativo per offrire una panoramica generale sul prodotto.  \nIscriviti alla sessione online per conoscere aspetti tecnici e soluzioni innovative per il tuo business! L’utilizzo del web consente ai progettisti partecipanti di non abbandonare la propria attività per tutto il giorno e di essere nuovamente operativi subito dopo il meeting online. \n\n\n 						\n				\n				\n				\n					\n			\n						\n									ISCRIVITI ORA
URL:https://solidcam.it/evento/webinar-solidcam-e-frese-alesatrici-precisione-assoluta-controllo-totale/
CATEGORIES:Eventi,Gratuito,Webinar
ATTACH;FMTTYPE=image/webp:https://solidcam.it/wp-content/uploads/sites/2/Solidcam-2026_Articolo-sito-webinar-26-03-26.webp
END:VEVENT
END:VCALENDAR