BEGIN:VCALENDAR
VERSION:2.0
PRODID:-//SolidCAM Italia - ECPv6.15.20//NONSGML v1.0//EN
CALSCALE:GREGORIAN
METHOD:PUBLISH
X-WR-CALNAME:SolidCAM Italia
X-ORIGINAL-URL:https://solidcam.it
X-WR-CALDESC:Eventi per SolidCAM Italia
REFRESH-INTERVAL;VALUE=DURATION:PT1H
X-Robots-Tag:noindex
X-PUBLISHED-TTL:PT1H
BEGIN:VTIMEZONE
TZID:Europe/Rome
BEGIN:DAYLIGHT
TZOFFSETFROM:+0100
TZOFFSETTO:+0200
TZNAME:CEST
DTSTART:20220327T010000
END:DAYLIGHT
BEGIN:STANDARD
TZOFFSETFROM:+0200
TZOFFSETTO:+0100
TZNAME:CET
DTSTART:20221030T010000
END:STANDARD
BEGIN:DAYLIGHT
TZOFFSETFROM:+0100
TZOFFSETTO:+0200
TZNAME:CEST
DTSTART:20230326T010000
END:DAYLIGHT
BEGIN:STANDARD
TZOFFSETFROM:+0200
TZOFFSETTO:+0100
TZNAME:CET
DTSTART:20231029T010000
END:STANDARD
BEGIN:DAYLIGHT
TZOFFSETFROM:+0100
TZOFFSETTO:+0200
TZNAME:CEST
DTSTART:20240331T010000
END:DAYLIGHT
BEGIN:STANDARD
TZOFFSETFROM:+0200
TZOFFSETTO:+0100
TZNAME:CET
DTSTART:20241027T010000
END:STANDARD
END:VTIMEZONE
BEGIN:VEVENT
DTSTART;TZID=Europe/Rome:20230301T160000
DTEND;TZID=Europe/Rome:20230301T160000
DTSTAMP:20260423T023421
CREATED:20230217T085922Z
LAST-MODIFIED:20230406T153634Z
UID:7943-1677686400-1677686400@solidcam.it
SUMMARY:Corso base - HSS (High Speed Surface)
DESCRIPTION:<< Tutti gli Eventi 						\n				\n				\n				\n			\n	Open House – Additive\, il nuovo standard produttivo		\n				\n				\n				\n			\n		\n			Luglio 9\n\n	\n\n	  @  \n\n\n9:30\n\n		\n\n\n\n	\n	  -  \n\n14:30\n\n\n\n	\n		\n				\n				\n				\n			\n	\n		\n				\n					\n		\n					\n		\n				\n						\n					\n			\n						\n				\n							Mercoledì 9 luglio 2025 | Resana (TV)Innovare il processo industriale con soluzioni concrete e integrate. SolidWorld Group apre le porte del nuovo Polo Tecnologico Due Pi Greco: un centro d’eccellenza dove Additive Manufacturing\, progettazione e controllo qualità si integrano in un ambiente produttivo reale e integrato.   Durante l’evento vedrai in azione tecnologie che lavorano in sinergia in un flusso produttivo continuo\, efficiente e scalabile: dalla stampa 3D industriale con materiali avanzati\, alla modellazione e programmazione CAD/CAM\, fino alle verifiche dimensionali tramite sistemi di metrologia 3D professionale.  L’Additive Manufacturing è già oggi una tecnologia chiave in produzione: flessibile\, sostenibile e ideale per chi vuole ridurre tempi\, ottimizzare costi e innovare con velocità.  Un evento pensato per chi vuole toccare con mano l’evoluzione della manifattura e per scoprire da vicino processi integrati\, componenti finiti\, macchine operative.  Ad arricchire la giornata\, interverranno anche testimonial d’eccellenza provenienti dai settori automotive e aerospace\, che condivideranno esperienze reali e casi applicativi concreti di innovazione e trasformazione produttiva.  Cosa vedrai dal vivo Additive Manufacturing: Componenti reali stampati in PA12CF\, ULTEM e altri materiali tecnici\, su macchine in funzione\, pronte per la produzione. Metrologia 3D: Scansioni in tempo reale e controllo qualità con strumenti professionali ad alta precisione. Software CAD/CAM: Workflow digitali integrati per la progettazione\, la simulazione e la programmazione di lavorazioni complesse. Partecipando potrai: Toccare con mano pezzi finiti\, realizzati con materiali ad alte prestazioni Vedere tecnologie operative all’interno di un flusso produttivo reale\, applicate a casi concreti Confrontarti direttamente con i nostri esperti grazie a consulenze personalizzate one-to-one su stampa 3D\, metrologia e CAM/CAD Scoprire soluzioni pronte all’uso per ottimizzare tempi\, costi e qualità dei tuoi processi Fare networking con altri professionisti del settore in un ambiente tecnico e collaborativo Agenda della giornata 9:30 – Registrazione partecipanti 10:00 – Introduzione a cura di Diego Pagnan\, CEO di Due Pi Greco 10:15 – Additive: “Dal perché al come”\, con esempi applicativi\, a cura di Diego Pagnan di Due Pi Greco 10:45 – Metrologia 3D: controllo qualità e scansione di precisione a cura di SolidWorld 11:15 – Progettazione CAM/CAD: dalla modellazione alla produzione\, a cura di Marco Alberghini di SolidCAM Italia 11:45 – Visita al polo tecnologico con focus sulle applicazioni reali e tecnologie 12:30 – Business lunch 13:30 – Incontri personalizzati one-to-one con gli esperti di additive manufacturing\, metrologia e CAD/CAM 14:30 – Fine evento  La partecipazione è gratuita\, ma i posti sono limitati. Prenota ora il tuo posto e assicurati l’accesso a un evento tecnico esclusivo\, ricco di contenuti\, dimostrazioni pratiche e incontri personalizzati.  DataMercoledì 9 luglio 2025 dalle 9:30 alle 14:30 LuogoPolo Tecnologico di Due Pi Greco – Via Roma 55\, 31023\, Resana – loc. Boscalto (TV) 						\n				\n				\n				\n					\n			\n						\n									Iscriviti ora
URL:https://solidcam.it/evento/corso-base-hss-high-speed-surface/
CATEGORIES:Corsi base,Formazione,Gratuito
ATTACH;FMTTYPE=image/jpeg:https://solidcam.it/wp-content/uploads/sites/2/SOlidCAM_Corsi_HSS.jpg
END:VEVENT
BEGIN:VEVENT
DTSTART;TZID=Europe/Rome:20230228T090000
DTEND;TZID=Europe/Rome:20230228T170000
DTSTAMP:20260423T023422
CREATED:20230323T152956Z
LAST-MODIFIED:20230406T145646Z
UID:8630-1677574800-1677603600@solidcam.it
SUMMARY:Corso base - HSS (High Speed Surface)
DESCRIPTION:<< Tutti gli Eventi 						\n				\n				\n				\n			\n	Open House – Additive\, il nuovo standard produttivo		\n				\n				\n				\n			\n		\n			Luglio 9\n\n	\n\n	  @  \n\n\n9:30\n\n		\n\n\n\n	\n	  -  \n\n14:30\n\n\n\n	\n		\n				\n				\n				\n			\n	\n		\n				\n					\n		\n					\n		\n				\n						\n					\n			\n						\n				\n							Mercoledì 9 luglio 2025 | Resana (TV)Innovare il processo industriale con soluzioni concrete e integrate. SolidWorld Group apre le porte del nuovo Polo Tecnologico Due Pi Greco: un centro d’eccellenza dove Additive Manufacturing\, progettazione e controllo qualità si integrano in un ambiente produttivo reale e integrato.   Durante l’evento vedrai in azione tecnologie che lavorano in sinergia in un flusso produttivo continuo\, efficiente e scalabile: dalla stampa 3D industriale con materiali avanzati\, alla modellazione e programmazione CAD/CAM\, fino alle verifiche dimensionali tramite sistemi di metrologia 3D professionale.  L’Additive Manufacturing è già oggi una tecnologia chiave in produzione: flessibile\, sostenibile e ideale per chi vuole ridurre tempi\, ottimizzare costi e innovare con velocità.  Un evento pensato per chi vuole toccare con mano l’evoluzione della manifattura e per scoprire da vicino processi integrati\, componenti finiti\, macchine operative.  Ad arricchire la giornata\, interverranno anche testimonial d’eccellenza provenienti dai settori automotive e aerospace\, che condivideranno esperienze reali e casi applicativi concreti di innovazione e trasformazione produttiva.  Cosa vedrai dal vivo Additive Manufacturing: Componenti reali stampati in PA12CF\, ULTEM e altri materiali tecnici\, su macchine in funzione\, pronte per la produzione. Metrologia 3D: Scansioni in tempo reale e controllo qualità con strumenti professionali ad alta precisione. Software CAD/CAM: Workflow digitali integrati per la progettazione\, la simulazione e la programmazione di lavorazioni complesse. Partecipando potrai: Toccare con mano pezzi finiti\, realizzati con materiali ad alte prestazioni Vedere tecnologie operative all’interno di un flusso produttivo reale\, applicate a casi concreti Confrontarti direttamente con i nostri esperti grazie a consulenze personalizzate one-to-one su stampa 3D\, metrologia e CAM/CAD Scoprire soluzioni pronte all’uso per ottimizzare tempi\, costi e qualità dei tuoi processi Fare networking con altri professionisti del settore in un ambiente tecnico e collaborativo Agenda della giornata 9:30 – Registrazione partecipanti 10:00 – Introduzione a cura di Diego Pagnan\, CEO di Due Pi Greco 10:15 – Additive: “Dal perché al come”\, con esempi applicativi\, a cura di Diego Pagnan di Due Pi Greco 10:45 – Metrologia 3D: controllo qualità e scansione di precisione a cura di SolidWorld 11:15 – Progettazione CAM/CAD: dalla modellazione alla produzione\, a cura di Marco Alberghini di SolidCAM Italia 11:45 – Visita al polo tecnologico con focus sulle applicazioni reali e tecnologie 12:30 – Business lunch 13:30 – Incontri personalizzati one-to-one con gli esperti di additive manufacturing\, metrologia e CAD/CAM 14:30 – Fine evento  La partecipazione è gratuita\, ma i posti sono limitati. Prenota ora il tuo posto e assicurati l’accesso a un evento tecnico esclusivo\, ricco di contenuti\, dimostrazioni pratiche e incontri personalizzati.  DataMercoledì 9 luglio 2025 dalle 9:30 alle 14:30 LuogoPolo Tecnologico di Due Pi Greco – Via Roma 55\, 31023\, Resana – loc. Boscalto (TV) 						\n				\n				\n				\n					\n			\n						\n									Iscriviti ora
URL:https://solidcam.it/evento/corso-base-hss-high-speed-surface-2/
CATEGORIES:Corsi base,Formazione,Gratuito
ATTACH;FMTTYPE=image/jpeg:https://solidcam.it/wp-content/uploads/sites/2/SOlidCAM_Corsi_HSS.jpg
END:VEVENT
BEGIN:VEVENT
DTSTART;TZID=Europe/Rome:20230301T160000
DTEND;TZID=Europe/Rome:20230301T160000
DTSTAMP:20260423T023422
CREATED:20230217T085922Z
LAST-MODIFIED:20230406T153634Z
UID:7943-1677686400-1677686400@solidcam.it
SUMMARY:Corso base - HSS (High Speed Surface)
DESCRIPTION:<< Tutti gli Eventi 						\n				\n				\n				\n			\n	Open House – Additive\, il nuovo standard produttivo		\n				\n				\n				\n			\n		\n			Luglio 9\n\n	\n\n	  @  \n\n\n9:30\n\n		\n\n\n\n	\n	  -  \n\n14:30\n\n\n\n	\n		\n				\n				\n				\n			\n	\n		\n				\n					\n		\n					\n		\n				\n						\n					\n			\n						\n				\n							Mercoledì 9 luglio 2025 | Resana (TV)Innovare il processo industriale con soluzioni concrete e integrate. SolidWorld Group apre le porte del nuovo Polo Tecnologico Due Pi Greco: un centro d’eccellenza dove Additive Manufacturing\, progettazione e controllo qualità si integrano in un ambiente produttivo reale e integrato.   Durante l’evento vedrai in azione tecnologie che lavorano in sinergia in un flusso produttivo continuo\, efficiente e scalabile: dalla stampa 3D industriale con materiali avanzati\, alla modellazione e programmazione CAD/CAM\, fino alle verifiche dimensionali tramite sistemi di metrologia 3D professionale.  L’Additive Manufacturing è già oggi una tecnologia chiave in produzione: flessibile\, sostenibile e ideale per chi vuole ridurre tempi\, ottimizzare costi e innovare con velocità.  Un evento pensato per chi vuole toccare con mano l’evoluzione della manifattura e per scoprire da vicino processi integrati\, componenti finiti\, macchine operative.  Ad arricchire la giornata\, interverranno anche testimonial d’eccellenza provenienti dai settori automotive e aerospace\, che condivideranno esperienze reali e casi applicativi concreti di innovazione e trasformazione produttiva.  Cosa vedrai dal vivo Additive Manufacturing: Componenti reali stampati in PA12CF\, ULTEM e altri materiali tecnici\, su macchine in funzione\, pronte per la produzione. Metrologia 3D: Scansioni in tempo reale e controllo qualità con strumenti professionali ad alta precisione. Software CAD/CAM: Workflow digitali integrati per la progettazione\, la simulazione e la programmazione di lavorazioni complesse. Partecipando potrai: Toccare con mano pezzi finiti\, realizzati con materiali ad alte prestazioni Vedere tecnologie operative all’interno di un flusso produttivo reale\, applicate a casi concreti Confrontarti direttamente con i nostri esperti grazie a consulenze personalizzate one-to-one su stampa 3D\, metrologia e CAM/CAD Scoprire soluzioni pronte all’uso per ottimizzare tempi\, costi e qualità dei tuoi processi Fare networking con altri professionisti del settore in un ambiente tecnico e collaborativo Agenda della giornata 9:30 – Registrazione partecipanti 10:00 – Introduzione a cura di Diego Pagnan\, CEO di Due Pi Greco 10:15 – Additive: “Dal perché al come”\, con esempi applicativi\, a cura di Diego Pagnan di Due Pi Greco 10:45 – Metrologia 3D: controllo qualità e scansione di precisione a cura di SolidWorld 11:15 – Progettazione CAM/CAD: dalla modellazione alla produzione\, a cura di Marco Alberghini di SolidCAM Italia 11:45 – Visita al polo tecnologico con focus sulle applicazioni reali e tecnologie 12:30 – Business lunch 13:30 – Incontri personalizzati one-to-one con gli esperti di additive manufacturing\, metrologia e CAD/CAM 14:30 – Fine evento  La partecipazione è gratuita\, ma i posti sono limitati. Prenota ora il tuo posto e assicurati l’accesso a un evento tecnico esclusivo\, ricco di contenuti\, dimostrazioni pratiche e incontri personalizzati.  DataMercoledì 9 luglio 2025 dalle 9:30 alle 14:30 LuogoPolo Tecnologico di Due Pi Greco – Via Roma 55\, 31023\, Resana – loc. Boscalto (TV) 						\n				\n				\n				\n					\n			\n						\n									Iscriviti ora
URL:https://solidcam.it/evento/corso-base-hss-high-speed-surface/
CATEGORIES:Corsi base,Formazione,Gratuito
ATTACH;FMTTYPE=image/jpeg:https://solidcam.it/wp-content/uploads/sites/2/SOlidCAM_Corsi_HSS.jpg
END:VEVENT
BEGIN:VEVENT
DTSTART;TZID=Europe/Rome:20230221T090000
DTEND;TZID=Europe/Rome:20230222T170000
DTSTAMP:20260423T023422
CREATED:20230217T083840Z
LAST-MODIFIED:20230323T152612Z
UID:7927-1676970000-1677085200@solidcam.it
SUMMARY:Corso base - Fresatura 2.5 Assi
DESCRIPTION:<< Tutti gli Eventi 						\n				\n				\n				\n			\n	Open House – Additive\, il nuovo standard produttivo		\n				\n				\n				\n			\n		\n			Luglio 9\n\n	\n\n	  @  \n\n\n9:30\n\n		\n\n\n\n	\n	  -  \n\n14:30\n\n\n\n	\n		\n				\n				\n				\n			\n	\n		\n				\n					\n		\n					\n		\n				\n						\n					\n			\n						\n				\n							Mercoledì 9 luglio 2025 | Resana (TV)Innovare il processo industriale con soluzioni concrete e integrate. SolidWorld Group apre le porte del nuovo Polo Tecnologico Due Pi Greco: un centro d’eccellenza dove Additive Manufacturing\, progettazione e controllo qualità si integrano in un ambiente produttivo reale e integrato.   Durante l’evento vedrai in azione tecnologie che lavorano in sinergia in un flusso produttivo continuo\, efficiente e scalabile: dalla stampa 3D industriale con materiali avanzati\, alla modellazione e programmazione CAD/CAM\, fino alle verifiche dimensionali tramite sistemi di metrologia 3D professionale.  L’Additive Manufacturing è già oggi una tecnologia chiave in produzione: flessibile\, sostenibile e ideale per chi vuole ridurre tempi\, ottimizzare costi e innovare con velocità.  Un evento pensato per chi vuole toccare con mano l’evoluzione della manifattura e per scoprire da vicino processi integrati\, componenti finiti\, macchine operative.  Ad arricchire la giornata\, interverranno anche testimonial d’eccellenza provenienti dai settori automotive e aerospace\, che condivideranno esperienze reali e casi applicativi concreti di innovazione e trasformazione produttiva.  Cosa vedrai dal vivo Additive Manufacturing: Componenti reali stampati in PA12CF\, ULTEM e altri materiali tecnici\, su macchine in funzione\, pronte per la produzione. Metrologia 3D: Scansioni in tempo reale e controllo qualità con strumenti professionali ad alta precisione. Software CAD/CAM: Workflow digitali integrati per la progettazione\, la simulazione e la programmazione di lavorazioni complesse. Partecipando potrai: Toccare con mano pezzi finiti\, realizzati con materiali ad alte prestazioni Vedere tecnologie operative all’interno di un flusso produttivo reale\, applicate a casi concreti Confrontarti direttamente con i nostri esperti grazie a consulenze personalizzate one-to-one su stampa 3D\, metrologia e CAM/CAD Scoprire soluzioni pronte all’uso per ottimizzare tempi\, costi e qualità dei tuoi processi Fare networking con altri professionisti del settore in un ambiente tecnico e collaborativo Agenda della giornata 9:30 – Registrazione partecipanti 10:00 – Introduzione a cura di Diego Pagnan\, CEO di Due Pi Greco 10:15 – Additive: “Dal perché al come”\, con esempi applicativi\, a cura di Diego Pagnan di Due Pi Greco 10:45 – Metrologia 3D: controllo qualità e scansione di precisione a cura di SolidWorld 11:15 – Progettazione CAM/CAD: dalla modellazione alla produzione\, a cura di Marco Alberghini di SolidCAM Italia 11:45 – Visita al polo tecnologico con focus sulle applicazioni reali e tecnologie 12:30 – Business lunch 13:30 – Incontri personalizzati one-to-one con gli esperti di additive manufacturing\, metrologia e CAD/CAM 14:30 – Fine evento  La partecipazione è gratuita\, ma i posti sono limitati. Prenota ora il tuo posto e assicurati l’accesso a un evento tecnico esclusivo\, ricco di contenuti\, dimostrazioni pratiche e incontri personalizzati.  DataMercoledì 9 luglio 2025 dalle 9:30 alle 14:30 LuogoPolo Tecnologico di Due Pi Greco – Via Roma 55\, 31023\, Resana – loc. Boscalto (TV) 						\n				\n				\n				\n					\n			\n						\n									Iscriviti ora
URL:https://solidcam.it/evento/corso-base-fresatura-2-5-assi/
CATEGORIES:Corsi base,Formazione,Gratuito
ATTACH;FMTTYPE=image/jpeg:https://solidcam.it/wp-content/uploads/sites/2/SolidCAM_Corsi_2.5_Assi.jpg
END:VEVENT
END:VCALENDAR