BEGIN:VCALENDAR
VERSION:2.0
PRODID:-//SolidCAM Italia - ECPv6.15.20//NONSGML v1.0//EN
CALSCALE:GREGORIAN
METHOD:PUBLISH
X-WR-CALNAME:SolidCAM Italia
X-ORIGINAL-URL:https://solidcam.it
X-WR-CALDESC:Eventi per SolidCAM Italia
REFRESH-INTERVAL;VALUE=DURATION:PT1H
X-Robots-Tag:noindex
X-PUBLISHED-TTL:PT1H
BEGIN:VTIMEZONE
TZID:Europe/Rome
BEGIN:DAYLIGHT
TZOFFSETFROM:+0100
TZOFFSETTO:+0200
TZNAME:CEST
DTSTART:20230326T010000
END:DAYLIGHT
BEGIN:STANDARD
TZOFFSETFROM:+0200
TZOFFSETTO:+0100
TZNAME:CET
DTSTART:20231029T010000
END:STANDARD
BEGIN:DAYLIGHT
TZOFFSETFROM:+0100
TZOFFSETTO:+0200
TZNAME:CEST
DTSTART:20240331T010000
END:DAYLIGHT
BEGIN:STANDARD
TZOFFSETFROM:+0200
TZOFFSETTO:+0100
TZNAME:CET
DTSTART:20241027T010000
END:STANDARD
BEGIN:DAYLIGHT
TZOFFSETFROM:+0100
TZOFFSETTO:+0200
TZNAME:CEST
DTSTART:20250330T010000
END:DAYLIGHT
BEGIN:STANDARD
TZOFFSETFROM:+0200
TZOFFSETTO:+0100
TZNAME:CET
DTSTART:20251026T010000
END:STANDARD
END:VTIMEZONE
BEGIN:VEVENT
DTSTART;TZID=Europe/Rome:20241003T143000
DTEND;TZID=Europe/Rome:20241003T190000
DTSTAMP:20260421T153819
CREATED:20240906T123502Z
LAST-MODIFIED:20240906T123520Z
UID:10261-1727965800-1727982000@solidcam.it
SUMMARY:SolidCAM e SOLIDWORKS: Progettazione e Produzione Integrata
DESCRIPTION:<< Tutti gli Eventi 						\n				\n				\n				\n			\n	Webinar – SolidCAM e frese alesatrici: precisione assoluta\, controllo totale		\n				\n				\n				\n			\n		\n			Marzo 26\n\n	\n\n	  @  \n\n\n14:30\n\n		\n\n\n\n	\n	  -  \n\n15:30\n\n\n\n	\n		\n				\n				\n				\n			\n	\n		\n				\n					\n		\n					\n		\n				\n						\n					\n			\n						\n				\n							Webinar Gratuito – Online \n26 marzo 2026 ore 14:30\nWebinar pratico dedicato alla gestione di frese alesatrici con SolidCAM. Vedremo come ottenere massima precisione\, sfruttare tutta la potenza della macchina e mantenere controllo totale su lavorazioni\, utensili e cicli. \nGrazie a SolidCAM\, la programmazione di pezzi di grandi dimensioni diventa più performante\, stabile ed efficiente\, dal CAM alla produzione reale. Meno imprevisti\, più affidabilità\, risultati concreti in officina. \nRelatori: Vincenzo Rizzo e Denis Mema\, Application Engineers SolidCAM Italia. \n\n\nDurata: la sessione online ha la durata di circa 1 ora. \nObiettivo: Il webinar ha scopo dimostrativo per offrire una panoramica generale sul prodotto.  \nIscriviti alla sessione online per conoscere aspetti tecnici e soluzioni innovative per il tuo business! L’utilizzo del web consente ai progettisti partecipanti di non abbandonare la propria attività per tutto il giorno e di essere nuovamente operativi subito dopo il meeting online. \n\n\n 						\n				\n				\n				\n					\n			\n						\n									ISCRIVITI ORA
URL:https://solidcam.it/evento/solidcam-e-solidworks-progettazione-e-produzione-integrata/
CATEGORIES:Eventi,Fiere e Workshop,Gratuito
ATTACH;FMTTYPE=image/webp:https://solidcam.it/wp-content/uploads/sites/2/Evento_SolidCAM_Cantine.webp
END:VEVENT
BEGIN:VEVENT
DTSTART;TZID=Europe/Rome:20241011T143000
DTEND;TZID=Europe/Rome:20241011T160000
DTSTAMP:20260421T153819
CREATED:20240924T101843Z
LAST-MODIFIED:20241004T084735Z
UID:10163-1728657000-1728662400@solidcam.it
SUMMARY:Webinar - HSM Finitura e Turbo applicato a casi reali
DESCRIPTION:<< Tutti gli Eventi 						\n				\n				\n				\n			\n	Webinar – SolidCAM e frese alesatrici: precisione assoluta\, controllo totale		\n				\n				\n				\n			\n		\n			Marzo 26\n\n	\n\n	  @  \n\n\n14:30\n\n		\n\n\n\n	\n	  -  \n\n15:30\n\n\n\n	\n		\n				\n				\n				\n			\n	\n		\n				\n					\n		\n					\n		\n				\n						\n					\n			\n						\n				\n							Webinar Gratuito – Online \n26 marzo 2026 ore 14:30\nWebinar pratico dedicato alla gestione di frese alesatrici con SolidCAM. Vedremo come ottenere massima precisione\, sfruttare tutta la potenza della macchina e mantenere controllo totale su lavorazioni\, utensili e cicli. \nGrazie a SolidCAM\, la programmazione di pezzi di grandi dimensioni diventa più performante\, stabile ed efficiente\, dal CAM alla produzione reale. Meno imprevisti\, più affidabilità\, risultati concreti in officina. \nRelatori: Vincenzo Rizzo e Denis Mema\, Application Engineers SolidCAM Italia. \n\n\nDurata: la sessione online ha la durata di circa 1 ora. \nObiettivo: Il webinar ha scopo dimostrativo per offrire una panoramica generale sul prodotto.  \nIscriviti alla sessione online per conoscere aspetti tecnici e soluzioni innovative per il tuo business! L’utilizzo del web consente ai progettisti partecipanti di non abbandonare la propria attività per tutto il giorno e di essere nuovamente operativi subito dopo il meeting online. \n\n\n 						\n				\n				\n				\n					\n			\n						\n									ISCRIVITI ORA
URL:https://solidcam.it/evento/webinar-hsm-finitura-e-turbo-applicato-a-casi-reali-2/
CATEGORIES:Eventi,Gratuito,Webinar
ATTACH;FMTTYPE=image/webp:https://solidcam.it/wp-content/uploads/sites/2/Webinar_SolidCAM_HSM.webp
END:VEVENT
END:VCALENDAR